BEGIN:VCALENDAR
VERSION:2.0
PRODID:-//Flakkandi - ECPv6.15.14//NONSGML v1.0//EN
CALSCALE:GREGORIAN
METHOD:PUBLISH
X-ORIGINAL-URL:https://flakkandi.com
X-WR-CALDESC:Events for Flakkandi
REFRESH-INTERVAL;VALUE=DURATION:PT1H
X-Robots-Tag:noindex
X-PUBLISHED-TTL:PT1H
BEGIN:VTIMEZONE
TZID:Europe/Lisbon
BEGIN:DAYLIGHT
TZOFFSETFROM:+0000
TZOFFSETTO:+0100
TZNAME:WEST
DTSTART:20230326T010000
END:DAYLIGHT
BEGIN:STANDARD
TZOFFSETFROM:+0100
TZOFFSETTO:+0000
TZNAME:WET
DTSTART:20231029T010000
END:STANDARD
BEGIN:DAYLIGHT
TZOFFSETFROM:+0000
TZOFFSETTO:+0100
TZNAME:WEST
DTSTART:20240331T010000
END:DAYLIGHT
BEGIN:STANDARD
TZOFFSETFROM:+0100
TZOFFSETTO:+0000
TZNAME:WET
DTSTART:20241027T010000
END:STANDARD
BEGIN:DAYLIGHT
TZOFFSETFROM:+0000
TZOFFSETTO:+0100
TZNAME:WEST
DTSTART:20250330T010000
END:DAYLIGHT
BEGIN:STANDARD
TZOFFSETFROM:+0100
TZOFFSETTO:+0000
TZNAME:WET
DTSTART:20251026T010000
END:STANDARD
BEGIN:DAYLIGHT
TZOFFSETFROM:+0000
TZOFFSETTO:+0100
TZNAME:WEST
DTSTART:20260329T010000
END:DAYLIGHT
BEGIN:STANDARD
TZOFFSETFROM:+0100
TZOFFSETTO:+0000
TZNAME:WET
DTSTART:20261025T010000
END:STANDARD
END:VTIMEZONE
BEGIN:VEVENT
DTSTART;TZID=Europe/Lisbon:20250614T160000
DTEND;TZID=Europe/Lisbon:20250614T210000
DTSTAMP:20260421T144539
CREATED:20240606T122419Z
LAST-MODIFIED:20250613T212413Z
UID:4044-1749916800-1749934800@flakkandi.com
SUMMARY:SH29 Birthday Party
DESCRIPTION:The idea of the party is to meet and celebrate 14th of June together at Santo Amaro 🤩 \n\n\n\n It’s gonna be my (Shukhrat’s) 29’s birthday happening. \n\n\n\nSo let’s share some joy\, curiosity and fun! \n\n\n\nHere is the location\, come by around 17:https://maps.app.goo.gl/DWBb57yoJptV9hxHA \n\n\n\n\n\ninvite people you love: \n\n\n\n\n		\n			\n			\n							\n				\n					\n					\n						\n					\n								\n							\n				\n					\n					\n						\n					\n								\n							\n				\n					\n					\n						\n					\n								\n							\n				\n					\n					\n						\n					\n								\n							\n				\n					\n					\n						\n					\n								\n							\n				\n					\n					\n						\n					\n								\n							\n				\n					\n					\n						\n					\n								\n							\n				\n					\n					\n						\n					\n								\n			\n			\n					\n\n	\n\n\n\n\n\n\n\n\n\n\n\n\n\n\n\nEarly birds can start coming at 16:00 (we will be preparing space\, placing sneaks)\, and the party part will start by 17:00. \n\n\n\n\n\nIn regards of food: we might have some fruits\, cheese and some other general snacks (we haven’t decided yet). \n\n\n\nFor drinks I guess the rule should be bring what you want to drink. \n\n\n\nAnyway there is always an option to order some pizza or paco bigotes. \n\n\n\nPlease come yourself\, with your any mood\, with people you would love to spend time with\, maybe bring some food you would like to eat and share\, or something else you want to consume. \n\n\n\n\nGeneral rule – everything recreational is okay.  \n\n\n\nStrong substances are disallowed.Alcohol is not disallowed but not recommended either. \n\n\n\n\nP.S. At some point I might play live songs that I wrote with the guitar you gifted me last year (for which I am very grateful).P.P.S. Please don’t care much about gifts\, having you in my life\, sharing this day with you – is already a big gift for me. \n\n\n\n\nJoin this party WA group\n\n\n\nWanna treat me?\n\n\n\n\n\n\n\n\n\n\n\n\nDate:\n\n\n\n\n\n\n\n\nOrganizers:\n\n\n\n\n\n\n\n\n\nPrice:\n\n\n\n\n\n\n\n\n\n\n\n\n\n\nand share:
URL:https://flakkandi.com/event/sh29/
CATEGORIES:Celebrations,Parties
ATTACH;FMTTYPE=image/jpeg:https://flakkandi.com/wp-content/uploads/2024/06/ola-bom-dia-1.jpg
END:VEVENT
BEGIN:VEVENT
DTSTART;TZID=Europe/Lisbon:20240614T170000
DTEND;TZID=Europe/Lisbon:20240614T220000
DTSTAMP:20260421T144539
CREATED:20240606T122419Z
LAST-MODIFIED:20240606T125632Z
UID:3874-1718384400-1718402400@flakkandi.com
SUMMARY:SH28 Birthday Party
DESCRIPTION:The idea of the party is Shukhrat’s 28’s birthday happening at Santo Amaro 🤩 \n\n\n\nSo let’s make some joy\, curiosity and fun! \n\n\n\nThere is also might be painting burning event happening by the Ocean around ~22:00. \n\n\n\n\n\ninvite people you love: \n\n\n\n\n		\n			\n			\n							\n				\n					\n					\n						\n					\n								\n							\n				\n					\n					\n						\n					\n								\n							\n				\n					\n					\n						\n					\n								\n							\n				\n					\n					\n						\n					\n								\n			\n			\n					\n\n	\n\n\n\n\n\n\n\n\n\n\n\n\n\n\n\nEarly birds can start coming at 17:00 (we will be preparing space\, placing sneaks\, and then meet sunset together)\, and the party part will start by 18:30. \n\n\n\n\n\nIn regards of food: we will have cheese\, grapes\, olives\, and some more snacks we haven’t decided yet. \n\n\n\nDrinks will be: water\, juice\, cola\, maybe some wine or whatever. \n\n\n\nAnyway there is always an option to order some pizza or pacos bigotas. \n\n\n\nPlease bring yourself\, your good mood\, people you would love to spend time with\, maybe snacks you would like to eat\, maybe some weeds or something else you want to consume. \n\n\n\n\nGeneral rule – everything recreational is okay.  \n\n\n\nStrong substances are disallowed.Alcohol is not disallowed but not recommended either. \n\n\n\n\nIf you play instruments\, it will be extremely cool if you perform. \n\n\n\n\nJoin this party TG group\n\n\n\nFollow upcoming Events\n\n\n\n\n\n\n\n\n\n\n\n\nDate:\n\n\n\n\n\n\n\n\nOrganizers:\n\n\n\n\n\n\n\n\n\nPrice:\n\n\n\n\n\n\n\n\n\n\n\n\n\n\nand share:
URL:https://flakkandi.com/event/sh28-birthday-party/
CATEGORIES:Celebrations,Parties
ATTACH;FMTTYPE=image/jpeg:https://flakkandi.com/wp-content/uploads/2024/06/ola-bom-dia.jpg
END:VEVENT
BEGIN:VEVENT
DTSTART;TZID=Europe/Lisbon:20240229T180000
DTEND;TZID=Europe/Lisbon:20240229T220000
DTSTAMP:20260421T144539
CREATED:20240224T001248Z
LAST-MODIFIED:20240229T145829Z
UID:3394-1709229600-1709244000@flakkandi.com
SUMMARY:Leap Party with Shukhrat and Borys
DESCRIPTION:The idea of the party is very simple – a leap day happens only once every 4 years\, or once every 1461 days 🤩 \n\n\n\nSo let’s celebrate the coincidence! \n\n\n\nWe make it to hang out\, to celebrate\, to have fun\, to live it through\, just for the sake of it. \n\n\n\n\n\ninvite people you love: \n\n\n\n\n		\n			\n			\n							\n				\n					\n					\n						\n					\n								\n							\n				\n					\n					\n						\n					\n								\n							\n				\n					\n					\n						\n					\n								\n							\n				\n					\n					\n						\n					\n								\n			\n			\n					\n\n	\n\n\n\n\n\n\n\n\n\n\n\n\n\n\n\nEarly birds can start coming at 17:00 (we will be preparing space\, placing sneaks\, and then meet sunset together)\, and the party part will start by 18:30. \n\n\n\n\n\nIn regards of food: we will have cheese\, grapes\, olives\, hummus\, vegetables\, and nuts. \n\n\n\nDrinks will be: water\, juice\, cola. \n\n\n\nAnyway there is always an option to order some pizza. \n\n\n\nPlease bring yourself\, your good mood\, people you would love to spend time with\, maybe snacks you would like to eat\, maybe some weeds or something else you want to consume. \n\n\n\n\nGeneral rule – everything recreational is okay.  \n\n\n\nStrong substances are disallowed.Alcohol is not disallowed but not recommended either. \n\n\n\n\nIf you play instruments\, it will be extremely cool if you perform. We will have a guitar in our space. \n\n\n\n\nJoin this party TG group\n\n\n\nFollow upcoming Events\n\n\n\n\n\n\n\n\n\n\n\n\nDate:\n\n\n\n\n\n\n\n\nOrganizers:\n\n\n\n\n\n\n\n\n\nPrice:\n\n\n\n\n\n\n\n\n\n\n\n\n\n\nand share:
URL:https://flakkandi.com/event/leap-party-24/
LOCATION:Researchers House\, R. Bela Vista 2\, Oeiras\, Lisbon\, 2780-312
CATEGORIES:Parties
ATTACH;FMTTYPE=image/jpeg:https://flakkandi.com/wp-content/uploads/2024/02/Leap-24.jpg
END:VEVENT
END:VCALENDAR